BEGIN:VCALENDAR
VERSION:2.0
PRODID:-//Tukios.com/
BEGIN:VEVENT
UID:0b200ae8-c3e6-4049-92bf-3fdd049470e3@www.integrityforestlawn.com
DTSTAMP:20260426T005146Z
DTSTART:20260430T000000Z
DTEND:20260430T010000Z
SUMMARY:Rosary
DESCRIPTION:
URL:https://www.integrityforestlawn.com/obituaries/joe-rojas
LOCATION: 8601 Almeda Genoa Rd  Houston TX 77075
GEO:29.6269882;-95.262812
END:VEVENT
END:VCALENDAR