BEGIN:VCALENDAR
VERSION:2.0
PRODID:-//Tukios.com/
BEGIN:VEVENT
UID:ff5ab7d5-e952-4dea-aecb-478ddff19b32@www.integrityforestlawn.com
DTSTAMP:20260426T004606Z
DTSTART:20260430T163000Z
DTEND:20260430T173000Z
SUMMARY:Funeral Service
DESCRIPTION:
URL:https://www.integrityforestlawn.com/obituaries/joe-rojas
LOCATION: 8601 Almeda Genoa Rd  Houston TX 77075
GEO:29.6269882;-95.262812
END:VEVENT
END:VCALENDAR