BEGIN:VCALENDAR
VERSION:2.0
PRODID:-//Tukios.com/
BEGIN:VEVENT
UID:6ef25714-fe03-49f8-b302-e724e8569687@www.integrityforestlawn.com
DTSTAMP:20260426T005402Z
DTSTART:20260430T180000Z
DTEND:20260430T190000Z
SUMMARY:Graveside Service
DESCRIPTION:
URL:https://www.integrityforestlawn.com/obituaries/joe-rojas
LOCATION: 8601 Almeda Genoa Rd  Houston TX 77075
GEO:29.6269882;-95.262812
END:VEVENT
END:VCALENDAR