BEGIN:VCALENDAR
VERSION:2.0
PRODID:-//Tukios.com/
BEGIN:VEVENT
UID:e8f3c083-5ea8-436d-9d5a-52a6a10b7b27@www.integrityforestlawn.com
DTSTAMP:20260424T174118Z
DTSTART:20260428T220000Z
DTEND:20260429T020000Z
SUMMARY:Visitation
DESCRIPTION:
URL:https://www.integrityforestlawn.com/obituaries/martin-san-miguel
LOCATION: 8601 Almeda Genoa Rd  Houston TX 77075
GEO:29.6269882;-95.262812
END:VEVENT
END:VCALENDAR