BEGIN:VCALENDAR
VERSION:2.0
PRODID:-//Tukios.com/
BEGIN:VEVENT
UID:05a87685-84f6-4d57-bf52-a9b77cc39df5@www.integrityforestlawn.com
DTSTAMP:20260424T173806Z
DTSTART:20260429T000000Z
DTEND:20260429T010000Z
SUMMARY:Evening Service
DESCRIPTION:
URL:https://www.integrityforestlawn.com/obituaries/martin-san-miguel
LOCATION: 8601 Almeda Genoa Rd  Houston TX 77075
GEO:29.6269882;-95.262812
END:VEVENT
END:VCALENDAR