BEGIN:VCALENDAR
VERSION:2.0
PRODID:-//Tukios.com/
BEGIN:VEVENT
UID:40fdaadc-1b6e-448b-a0c1-2c43fdc1ad39@www.integrityforestlawn.com
DTSTAMP:20260424T173318Z
DTSTART:20260429T153000Z
DTEND:20260429T163000Z
SUMMARY:Final Viewing
DESCRIPTION:
URL:https://www.integrityforestlawn.com/obituaries/martin-san-miguel
LOCATION:St. Pius V Catholic Church 824 Main St  Pasadena TX 77506
GEO:29.6983669;-95.2098798
END:VEVENT
END:VCALENDAR