BEGIN:VCALENDAR
VERSION:2.0
PRODID:-//Tukios.com/
BEGIN:VEVENT
UID:088b91f5-57ab-4608-8de6-1cd7dcc14ce6@www.integrityforestlawn.com
DTSTAMP:20260424T173806Z
DTSTART:20260429T163000Z
DTEND:20260429T173000Z
SUMMARY:Funeral Service
DESCRIPTION:
URL:https://www.integrityforestlawn.com/obituaries/martin-san-miguel
LOCATION:St. Pius V Catholic Church 824 Main St  Pasadena TX 77506
GEO:29.6983669;-95.2098798
END:VEVENT
END:VCALENDAR