BEGIN:VCALENDAR
VERSION:2.0
PRODID:-//Tukios.com/
BEGIN:VEVENT
UID:35dceb76-3b58-474c-9928-ec00dcfc6b72@www.integrityforestlawn.com
DTSTAMP:20260424T174118Z
DTSTART:20260429T180000Z
DTEND:20260429T183000Z
SUMMARY:Graveside Service
DESCRIPTION:
URL:https://www.integrityforestlawn.com/obituaries/martin-san-miguel
LOCATION: 8601 Almeda Genoa Rd  Houston TX 77075
GEO:29.6269882;-95.262812
END:VEVENT
END:VCALENDAR