BEGIN:VCALENDAR
VERSION:2.0
PRODID:-//Tukios.com/
BEGIN:VEVENT
UID:ea85ce62-e2d8-4956-a6cf-4897cde3d34f@www.integrityforestlawn.com
DTSTAMP:20260422T220856Z
DTSTART:20260424T160000Z
DTEND:20260424T180000Z
SUMMARY:Visitation
DESCRIPTION:
URL:https://www.integrityforestlawn.com/obituaries/pedro-pete-vasquez
LOCATION: 8601 Almeda Genoa Rd  Houston TX 77075
GEO:29.6269882;-95.262812
END:VEVENT
END:VCALENDAR