BEGIN:VCALENDAR
VERSION:2.0
PRODID:-//Tukios.com/
BEGIN:VEVENT
UID:a963d11f-d033-4f48-8ca7-56b8f2b415db@www.integrityforestlawn.com
DTSTAMP:20260422T220317Z
DTSTART:20260424T180000Z
DTEND:20260424T190000Z
SUMMARY:Funeral Liturgy
DESCRIPTION:
URL:https://www.integrityforestlawn.com/obituaries/pedro-pete-vasquez
LOCATION: 8601 Almeda Genoa Rd  Houston TX 77075
GEO:29.6269882;-95.262812
END:VEVENT
END:VCALENDAR