BEGIN:VCALENDAR
VERSION:2.0
PRODID:-//Tukios.com/
BEGIN:VEVENT
UID:11af3368-975f-45ff-a895-910a84e911c2@www.integrityforestlawn.com
DTSTAMP:20260422T220856Z
DTSTART:20260424T193000Z
DTEND:20260424T203000Z
SUMMARY:Interment
DESCRIPTION:
URL:https://www.integrityforestlawn.com/obituaries/pedro-pete-vasquez
LOCATION: 8601 Almeda Genoa Rd  Houston TX 77075
GEO:29.6269882;-95.262812
END:VEVENT
END:VCALENDAR