BEGIN:VCALENDAR
VERSION:2.0
PRODID:-//Tukios.com/
BEGIN:VEVENT
UID:3b9672c0-a0a7-4690-a551-baf44ce514d6@www.integrityforestlawn.com
DTSTAMP:20260424T203842Z
DTSTART:20260504T140000Z
DTEND:20260504T193000Z
SUMMARY:Visitation
DESCRIPTION:
URL:https://www.integrityforestlawn.com/obituaries/reyna-garcia
LOCATION: 8601 Almeda Genoa Rd  Houston TX 77075
GEO:29.6269882;-95.262812
END:VEVENT
END:VCALENDAR